BEGIN:VCALENDAR
VERSION:2.0
PRODID:-//TYPO3/NONSGML News system (news)//EN
BEGIN:VEVENT
UID:event-2694@https://www.helmholtz-hzi.de

DTSTAMP:19691231T230000
DTSTART:20260627T090000
DTEND:20260627T200000

SUMMARY:Science Day 2026 - One Health 
END:VEVENT
END:VCALENDAR
